BEGIN:VCALENDAR
VERSION:2.0
PRODID:-//Child Rescue Coalition - ECPv6.15.20//NONSGML v1.0//EN
CALSCALE:GREGORIAN
METHOD:PUBLISH
X-WR-CALNAME:Child Rescue Coalition
X-ORIGINAL-URL:https://childrescuecoalition.org
X-WR-CALDESC:Events for Child Rescue Coalition
REFRESH-INTERVAL;VALUE=DURATION:PT1H
X-Robots-Tag:noindex
X-PUBLISHED-TTL:PT1H
BEGIN:VTIMEZONE
TZID:UTC
BEGIN:STANDARD
TZOFFSETFROM:+0000
TZOFFSETTO:+0000
TZNAME:UTC
DTSTART:20250101T000000
END:STANDARD
END:VTIMEZONE
BEGIN:VTIMEZONE
TZID:America/Detroit
BEGIN:DAYLIGHT
TZOFFSETFROM:-0500
TZOFFSETTO:-0400
TZNAME:EDT
DTSTART:20260308T070000
END:DAYLIGHT
BEGIN:STANDARD
TZOFFSETFROM:-0400
TZOFFSETTO:-0500
TZNAME:EST
DTSTART:20261101T060000
END:STANDARD
BEGIN:DAYLIGHT
TZOFFSETFROM:-0500
TZOFFSETTO:-0400
TZNAME:EDT
DTSTART:20270314T070000
END:DAYLIGHT
BEGIN:STANDARD
TZOFFSETFROM:-0400
TZOFFSETTO:-0500
TZNAME:EST
DTSTART:20271107T060000
END:STANDARD
BEGIN:DAYLIGHT
TZOFFSETFROM:-0500
TZOFFSETTO:-0400
TZNAME:EDT
DTSTART:20280312T070000
END:DAYLIGHT
BEGIN:STANDARD
TZOFFSETFROM:-0400
TZOFFSETTO:-0500
TZNAME:EST
DTSTART:20281105T060000
END:STANDARD
END:VTIMEZONE
BEGIN:VEVENT
DTSTART;TZID=UTC:20260425T140000
DTEND;TZID=UTC:20260425T160000
DTSTAMP:20260424T060252
CREATED:20260305T145548Z
LAST-MODIFIED:20260313T163016Z
UID:82296-1777125600-1777132800@childrescuecoalition.org
SUMMARY:Blankets & Bear Hugs Community Day
DESCRIPTION:Join us for a day of FREE family fun! \nChild Rescue Coalition’s Blankets and Bear Hugs Community Day is a great way to give back to your community. During this event\, you will learn more about the work CRC is doing to help protect children\, and work on the hands-on activity to make care packages for rescued children. \nStudents can earn 2 community service hours.
URL:https://childrescuecoalition.org/events/blankets-bear-hugs-community-day-5/
LOCATION:Boca Raton Innovation Campus\, 5000 T-Rex Ave\, Boca Raton\, FL\, 33431\, United States
ATTACH;FMTTYPE=image/png:https://childrescuecoalition.org/wp-content/uploads/2026/03/1.png
END:VEVENT
BEGIN:VEVENT
DTSTART;TZID=America/Detroit:20270220T180000
DTEND;TZID=America/Detroit:20270220T230000
DTSTAMP:20260424T060252
CREATED:20260421T183636Z
LAST-MODIFIED:20260421T183732Z
UID:90427-1803146400-1803164400@childrescuecoalition.org
SUMMARY:10th Annual Tech with Heart Gala
DESCRIPTION:Join us on February 20\, 2026\, for the 10th Annual Tech with Heart Gala at the Opal Grand Resort & Spa in Delray Beach\, Florida! Enjoy an unforgettable evening as we celebrate the life-changing impact of our work to rescue and protect children worldwide.
URL:https://childrescuecoalition.org/events/10th-annual-tech-with-heart-gala/
LOCATION:Opal Grand Oceanfront Resort & Spa\, 10 N Ocean Blvd\, Delray Beach\, FL\, 33483
ATTACH;FMTTYPE=image/png:https://childrescuecoalition.org/wp-content/uploads/2026/04/Save-the-date-gala-2027.png
END:VEVENT
END:VCALENDAR